BEGIN:VCALENDAR
VERSION:2.0
PRODID:-//MSA-BC - ECPv6.15.20//NONSGML v1.0//EN
CALSCALE:GREGORIAN
METHOD:PUBLISH
X-ORIGINAL-URL:https://www.msa-bc.org
X-WR-CALDESC:Events for MSA-BC
REFRESH-INTERVAL;VALUE=DURATION:PT1H
X-Robots-Tag:noindex
X-PUBLISHED-TTL:PT1H
BEGIN:VTIMEZONE
TZID:America/Vancouver
BEGIN:DAYLIGHT
TZOFFSETFROM:-0800
TZOFFSETTO:-0700
TZNAME:PDT
DTSTART:20140309T100000
END:DAYLIGHT
BEGIN:STANDARD
TZOFFSETFROM:-0700
TZOFFSETTO:-0800
TZNAME:PST
DTSTART:20141102T090000
END:STANDARD
BEGIN:DAYLIGHT
TZOFFSETFROM:-0800
TZOFFSETTO:-0700
TZNAME:PDT
DTSTART:20150308T100000
END:DAYLIGHT
BEGIN:STANDARD
TZOFFSETFROM:-0700
TZOFFSETTO:-0800
TZNAME:PST
DTSTART:20151101T090000
END:STANDARD
BEGIN:DAYLIGHT
TZOFFSETFROM:-0800
TZOFFSETTO:-0700
TZNAME:PDT
DTSTART:20160313T100000
END:DAYLIGHT
BEGIN:STANDARD
TZOFFSETFROM:-0700
TZOFFSETTO:-0800
TZNAME:PST
DTSTART:20161106T090000
END:STANDARD
END:VTIMEZONE
BEGIN:VEVENT
DTSTART;VALUE=DATE:20150416
DTEND;VALUE=DATE:20150417
DTSTAMP:20260423T013225
CREATED:20150303T050100Z
LAST-MODIFIED:20150303T050626Z
UID:146-1429142400-1429228799@www.msa-bc.org
SUMMARY:Coast Water Supply Trade Show
DESCRIPTION:Administrative Workshop\, AGM\, and Trade Show (April 16th)\nThursday April 16th will be our Administrative Workshop\, AGM\, and Trade Show\, complete with door prizes. Speakers are being finalized and here is what we have so far: \n\nSybille Sanderson\, Emergency Program Coordinator\, CVRD – Emergency Preparedness & Business Continuity in the Workplace\nDavid Slade\, Drillwell – Well Maintenance\, Ground Water Protection Regulation\, Water Sustainability Act & the Cowichan Water Conservation Challenge\nClearbrook Waterworks District – Managing a Groundwater-based Drinking Water Supply System.\nMinistry of Environment – TBA\nMinistry of Health – Drinking Water Distribution\, Ground Water Assessment and Treatment Guidance Consultation\nGary Anderson\, Island Health – Total Coliform and E. coli Bacteria Sampling. Understanding what total coliform and E. coli bacteria are and what the sample results provide as indicators of health risk in drinking water\n\nCEU’s for the Administrative Workshop are pending. \nRegistration: http://cwsa.net/registration/?action=evregister&event_id=6 \n 
URL:https://www.msa-bc.org/events/coast-water-supply-trade-show/
LOCATION:Quw’utsun’ Cultural and Conference Centre\, 200 Cowichan Way\, Duncan\, British Columbia\, V9L 6P4\, Canada
ATTACH;FMTTYPE=image/png:https://www.msa-bc.org/wp-content/uploads/2015/03/header9.png
ORGANIZER;CN="Coastal Water Suppliers Association":MAILTO:coastalwatersuppliers@gmail.com
END:VEVENT
END:VCALENDAR