BEGIN:VCALENDAR
VERSION:2.0
PRODID:-//MSA-BC - ECPv6.15.20//NONSGML v1.0//EN
CALSCALE:GREGORIAN
METHOD:PUBLISH
X-WR-CALNAME:MSA-BC
X-ORIGINAL-URL:https://www.msa-bc.org
X-WR-CALDESC:Events for MSA-BC
REFRESH-INTERVAL;VALUE=DURATION:PT1H
X-Robots-Tag:noindex
X-PUBLISHED-TTL:PT1H
BEGIN:VTIMEZONE
TZID:America/Vancouver
BEGIN:DAYLIGHT
TZOFFSETFROM:-0800
TZOFFSETTO:-0700
TZNAME:PDT
DTSTART:20230312T100000
END:DAYLIGHT
BEGIN:STANDARD
TZOFFSETFROM:-0700
TZOFFSETTO:-0800
TZNAME:PST
DTSTART:20231105T090000
END:STANDARD
BEGIN:DAYLIGHT
TZOFFSETFROM:-0800
TZOFFSETTO:-0700
TZNAME:PDT
DTSTART:20240310T100000
END:DAYLIGHT
BEGIN:STANDARD
TZOFFSETFROM:-0700
TZOFFSETTO:-0800
TZNAME:PST
DTSTART:20241103T090000
END:STANDARD
BEGIN:DAYLIGHT
TZOFFSETFROM:-0800
TZOFFSETTO:-0700
TZNAME:PDT
DTSTART:20250309T100000
END:DAYLIGHT
BEGIN:STANDARD
TZOFFSETFROM:-0700
TZOFFSETTO:-0800
TZNAME:PST
DTSTART:20251102T090000
END:STANDARD
END:VTIMEZONE
BEGIN:VEVENT
DTSTART;VALUE=DATE:20241007
DTEND;VALUE=DATE:20241009
DTSTAMP:20260424T024702
CREATED:20150303T052307Z
LAST-MODIFIED:20250920T162942Z
UID:154-1728259200-1728431999@www.msa-bc.org
SUMMARY:PWABC / BCMSA Trade Show
DESCRIPTION:PWABC Trade Show (October 7th & 8th)\nThis year’s PWABC Technical Conference and Trade Show will be held in Penticton October 7 &8.  The conference will be worth valuable CEUs and\, as ever\, will be a great opportunity to catch up with friends and colleagues from across the province. Please save the date\, and we hope to see you there!
URL:https://www.msa-bc.org/events/pwa-trade-show/
LOCATION:Penticton Trade & Conference Centre\, 273 Power St\, Penticton\, British Columbia\, V2A 7K9\, Canada
ATTACH;FMTTYPE=image/png:https://www.msa-bc.org/wp-content/uploads/2015/03/pwabc-logo.png
ORGANIZER;CN="PWABC":MAILTO:info@pwabc.ca
END:VEVENT
BEGIN:VEVENT
DTSTART;TZID=America/Vancouver:20241007T190000
DTEND;TZID=America/Vancouver:20241007T220000
DTSTAMP:20260424T024702
CREATED:20150303T052742Z
LAST-MODIFIED:20240727T153856Z
UID:158-1728327600-1728338400@www.msa-bc.org
SUMMARY:MSA Industry Night
DESCRIPTION:MSA Industry Night (Oct 7th)
URL:https://www.msa-bc.org/events/msa-industry-night/
LOCATION:Salty’s Beach House\, 1000 Lakeshore Drive West\, Pentiction\, BC\, V2A 1B7\, Canada
ATTACH;FMTTYPE=image/jpeg:https://www.msa-bc.org/wp-content/uploads/2015/03/Saltys.jpg
END:VEVENT
BEGIN:VEVENT
DTSTART;VALUE=DATE:20241024
DTEND;VALUE=DATE:20241026
DTSTAMP:20260424T024702
CREATED:20190430T164333Z
LAST-MODIFIED:20240727T154223Z
UID:813-1729728000-1729900799@www.msa-bc.org
SUMMARY:Water Supply Trade Show
DESCRIPTION:The Water Supply Associate will be hosting their Annual Trade Show October 24 & 25 in Sun Peaks.
URL:https://www.msa-bc.org/events/water-supply-trade-show/
LOCATION:Sun Peaks Resort\, 1280 Alpine Road\, Sun Peaks\, BC\, V0E 5N0\, Canada
ATTACH;FMTTYPE=image/png:https://www.msa-bc.org/wp-content/uploads/2015/04/logo.png
ORGANIZER;CN="Water Supply Association of BC":MAILTO:watersupply@shaw.ca
END:VEVENT
END:VCALENDAR