BEGIN:VCALENDAR
VERSION:2.0
PRODID:-//MSA-BC - ECPv6.15.20//NONSGML v1.0//EN
CALSCALE:GREGORIAN
METHOD:PUBLISH
X-WR-CALNAME:MSA-BC
X-ORIGINAL-URL:https://www.msa-bc.org
X-WR-CALDESC:Events for MSA-BC
REFRESH-INTERVAL;VALUE=DURATION:PT1H
X-Robots-Tag:noindex
X-PUBLISHED-TTL:PT1H
BEGIN:VTIMEZONE
TZID:America/Vancouver
BEGIN:DAYLIGHT
TZOFFSETFROM:-0800
TZOFFSETTO:-0700
TZNAME:PDT
DTSTART:20240310T100000
END:DAYLIGHT
BEGIN:STANDARD
TZOFFSETFROM:-0700
TZOFFSETTO:-0800
TZNAME:PST
DTSTART:20241103T090000
END:STANDARD
BEGIN:DAYLIGHT
TZOFFSETFROM:-0800
TZOFFSETTO:-0700
TZNAME:PDT
DTSTART:20250309T100000
END:DAYLIGHT
BEGIN:STANDARD
TZOFFSETFROM:-0700
TZOFFSETTO:-0800
TZNAME:PST
DTSTART:20251102T090000
END:STANDARD
BEGIN:DAYLIGHT
TZOFFSETFROM:-0800
TZOFFSETTO:-0700
TZNAME:PDT
DTSTART:20260308T100000
END:DAYLIGHT
BEGIN:STANDARD
TZOFFSETFROM:-0700
TZOFFSETTO:-0800
TZNAME:PST
DTSTART:20261101T090000
END:STANDARD
END:VTIMEZONE
BEGIN:VEVENT
DTSTART;VALUE=DATE:20251006
DTEND;VALUE=DATE:20251008
DTSTAMP:20260423T055057
CREATED:20241119T191753Z
LAST-MODIFIED:20250920T163318Z
UID:1305-1759708800-1759881599@www.msa-bc.org
SUMMARY:PWABC Joint Conference (JAC)
DESCRIPTION:Exterior views of the Whistler Conference Centre\, summer and dusk.
URL:https://www.msa-bc.org/events/pwabc-joint-conference-jac/
LOCATION:Whistler Convention Cente\, 4010 Whistler Way\, Whistler\, British Columbia\, V8E 1J2\, Canada
ATTACH;FMTTYPE=image/jpeg:https://www.msa-bc.org/wp-content/uploads/2024/11/Whistler_Conference_Centre.jpg
ORGANIZER;CN="PWABC":MAILTO:info@pwabc.ca
END:VEVENT
END:VCALENDAR