BEGIN:VCALENDAR
VERSION:2.0
PRODID:-//MSA-BC - ECPv6.15.20//NONSGML v1.0//EN
CALSCALE:GREGORIAN
METHOD:PUBLISH
X-ORIGINAL-URL:https://www.msa-bc.org
X-WR-CALDESC:Events for MSA-BC
REFRESH-INTERVAL;VALUE=DURATION:PT1H
X-Robots-Tag:noindex
X-PUBLISHED-TTL:PT1H
BEGIN:VTIMEZONE
TZID:America/Vancouver
BEGIN:DAYLIGHT
TZOFFSETFROM:-0800
TZOFFSETTO:-0700
TZNAME:PDT
DTSTART:20240310T100000
END:DAYLIGHT
BEGIN:STANDARD
TZOFFSETFROM:-0700
TZOFFSETTO:-0800
TZNAME:PST
DTSTART:20241103T090000
END:STANDARD
BEGIN:DAYLIGHT
TZOFFSETFROM:-0800
TZOFFSETTO:-0700
TZNAME:PDT
DTSTART:20250309T100000
END:DAYLIGHT
BEGIN:STANDARD
TZOFFSETFROM:-0700
TZOFFSETTO:-0800
TZNAME:PST
DTSTART:20251102T090000
END:STANDARD
BEGIN:DAYLIGHT
TZOFFSETFROM:-0800
TZOFFSETTO:-0700
TZNAME:PDT
DTSTART:20260308T100000
END:DAYLIGHT
BEGIN:STANDARD
TZOFFSETFROM:-0700
TZOFFSETTO:-0800
TZNAME:PST
DTSTART:20261101T090000
END:STANDARD
END:VTIMEZONE
BEGIN:VEVENT
DTSTART;TZID=America/Vancouver:20251127T100000
DTEND;TZID=America/Vancouver:20251127T110000
DTSTAMP:20260423T042907
CREATED:20250907T213829Z
LAST-MODIFIED:20250907T214531Z
UID:1341-1764237600-1764241200@www.msa-bc.org
SUMMARY:Annual Meeting
DESCRIPTION:The annual meeting of the MSA will be held in the Library of the Tap & Barrel in Willowbrook mall Langley
URL:https://www.msa-bc.org/events/annual-meeting/
LOCATION:Tap & Barrel – Willowbrook\, 19705 Fraser Highway\, Langley\, British Columbia\, V3A 7E9\, Canada
ATTACH;FMTTYPE=image/jpg:https://www.msa-bc.org/wp-content/uploads/2025/09/tapbarrelwillowbrook.jpg
END:VEVENT
BEGIN:VEVENT
DTSTART;TZID=America/Vancouver:20251127T110000
DTEND;TZID=America/Vancouver:20251127T190000
DTSTAMP:20260423T042907
CREATED:20250907T214508Z
LAST-MODIFIED:20250907T214508Z
UID:1347-1764241200-1764270000@www.msa-bc.org
SUMMARY:Industry Debacle Nov 27th at T&B
DESCRIPTION:This year’s industry Debacle will be held on Thursday November 27th at 11am at Tap & Barrel in Langley right after the annual meeting of the MSA.
URL:https://www.msa-bc.org/events/industry-debacle-nov-27th-at-tb/
LOCATION:Tap & Barrel – Willowbrook\, 19705 Fraser Highway\, Langley\, British Columbia\, V3A 7E9\, Canada
ATTACH;FMTTYPE=image/jpg:https://www.msa-bc.org/wp-content/uploads/2025/09/TB-Langley.jpg
END:VEVENT
END:VCALENDAR